BEGIN:VCALENDAR
VERSION:2.0
PRODID:-//Unmask the Invisible - ECPv6.15.20//NONSGML v1.0//EN
CALSCALE:GREGORIAN
METHOD:PUBLISH
X-ORIGINAL-URL:https://unmasktheinvisible.org
X-WR-CALDESC:Events for Unmask the Invisible
REFRESH-INTERVAL;VALUE=DURATION:PT1H
X-Robots-Tag:noindex
X-PUBLISHED-TTL:PT1H
BEGIN:VTIMEZONE
TZID:America/Halifax
BEGIN:DAYLIGHT
TZOFFSETFROM:-0400
TZOFFSETTO:-0300
TZNAME:ADT
DTSTART:20240310T060000
END:DAYLIGHT
BEGIN:STANDARD
TZOFFSETFROM:-0300
TZOFFSETTO:-0400
TZNAME:AST
DTSTART:20241103T050000
END:STANDARD
BEGIN:DAYLIGHT
TZOFFSETFROM:-0400
TZOFFSETTO:-0300
TZNAME:ADT
DTSTART:20250309T060000
END:DAYLIGHT
BEGIN:STANDARD
TZOFFSETFROM:-0300
TZOFFSETTO:-0400
TZNAME:AST
DTSTART:20251102T050000
END:STANDARD
BEGIN:DAYLIGHT
TZOFFSETFROM:-0400
TZOFFSETTO:-0300
TZNAME:ADT
DTSTART:20260308T060000
END:DAYLIGHT
BEGIN:STANDARD
TZOFFSETFROM:-0300
TZOFFSETTO:-0400
TZNAME:AST
DTSTART:20261101T050000
END:STANDARD
END:VTIMEZONE
BEGIN:VEVENT
DTSTART;TZID=America/Halifax:20250823T100000
DTEND;TZID=America/Halifax:20250823T130000
DTSTAMP:20260424T075632
CREATED:20250522T143217Z
LAST-MODIFIED:20250806T134931Z
UID:10000023-1755943200-1755954000@unmasktheinvisible.org
SUMMARY:This is Your Brain on Art
DESCRIPTION:This Is Your Brain On Art Events\nArt accesses many of the advanced processes of the human brain\, such as intuitive analysis\, expressivity\, and embodied cognition. Artists are often better observers and have better memory\, and this may be due to how art affects the brain’s plasticity. \n— @ACRM.org\, How The Brain Is Affected By Art \nThe Sierra Project and Unmask the Invisible host art workshops\, get-togethers\, and retreats that are centered around creativity\, expressing emotions\, and having fun. \nThis Is Your Brain on Art Events are designed for the TBI Survivor\, their family\, and caretakers. Events are also open to the public to bring awareness of the brain injured community and to show support. \nRegister Here
URL:https://unmasktheinvisible.org/events/this-is-your-brain-on-art/
LOCATION:Riverside Park\, 103 Glen Rd.\, Lebanon\, NH\, 03766\, United States
ATTACH;FMTTYPE=image/png:https://unmasktheinvisible.org/wp-content/uploads/Copy-of-Copy-of-Copy-of-Copy-of-Week-of-01132025-2.png
END:VEVENT
END:VCALENDAR