BEGIN:VCALENDAR
VERSION:2.0
PRODID:-//Unmask the Invisible - ECPv6.15.20//NONSGML v1.0//EN
CALSCALE:GREGORIAN
METHOD:PUBLISH
X-ORIGINAL-URL:https://unmasktheinvisible.org
X-WR-CALDESC:Events for Unmask the Invisible
REFRESH-INTERVAL;VALUE=DURATION:PT1H
X-Robots-Tag:noindex
X-PUBLISHED-TTL:PT1H
BEGIN:VTIMEZONE
TZID:America/Halifax
BEGIN:DAYLIGHT
TZOFFSETFROM:-0400
TZOFFSETTO:-0300
TZNAME:ADT
DTSTART:20230312T060000
END:DAYLIGHT
BEGIN:STANDARD
TZOFFSETFROM:-0300
TZOFFSETTO:-0400
TZNAME:AST
DTSTART:20231105T050000
END:STANDARD
BEGIN:DAYLIGHT
TZOFFSETFROM:-0400
TZOFFSETTO:-0300
TZNAME:ADT
DTSTART:20240310T060000
END:DAYLIGHT
BEGIN:STANDARD
TZOFFSETFROM:-0300
TZOFFSETTO:-0400
TZNAME:AST
DTSTART:20241103T050000
END:STANDARD
BEGIN:DAYLIGHT
TZOFFSETFROM:-0400
TZOFFSETTO:-0300
TZNAME:ADT
DTSTART:20250309T060000
END:DAYLIGHT
BEGIN:STANDARD
TZOFFSETFROM:-0300
TZOFFSETTO:-0400
TZNAME:AST
DTSTART:20251102T050000
END:STANDARD
END:VTIMEZONE
BEGIN:VEVENT
DTSTART;TZID=America/Halifax:20241116T180000
DTEND;TZID=America/Halifax:20241116T220000
DTSTAMP:20260423T190035
CREATED:20240805T225621Z
LAST-MODIFIED:20240805T225621Z
UID:10000012-1731780000-1731794400@unmasktheinvisible.org
SUMMARY:Chuckles For Charity Comedy Show
DESCRIPTION:BUY TICKETS HERE \nFeaturing Michael Petit\, Comedian and M.C.\, as seen on Comedy Central\, Cartoon Network\, NESN\, and on stage in Las Vegas! \nDINNER – SHOW – CASH BAR – SILENT AND LIVE AUCTION \nJoin us for an evening of food\, fun\, laughs and prizes to benefit Unmask the Invisible\, a 501c3\, and their mission to provide resources and support to traumatic brain injury survivors and their families \n 
URL:https://unmasktheinvisible.org/events/chuckles-for-charity-comedy-show/
LOCATION:Cornerstone Community Center\,\, 14 Elk Street\, Hartford\, VT\, 05047\, United States
END:VEVENT
BEGIN:VEVENT
DTSTART;TZID=America/Halifax:20241020T090000
DTEND;TZID=America/Halifax:20241020T090000
DTSTAMP:20260423T190035
CREATED:20240212T151946Z
LAST-MODIFIED:20240320T194028Z
UID:10000010-1729414800-1729414800@unmasktheinvisible.org
SUMMARY:2024 CHAD Hero Event
DESCRIPTION:
URL:https://unmasktheinvisible.org/events/2024-chad-hero-event/
LOCATION:VT
ATTACH;FMTTYPE=image/png:https://unmasktheinvisible.org/wp-content/uploads/CHad-Hero-2023-e1717615273210.png
END:VEVENT
BEGIN:VEVENT
DTSTART;TZID=America/Halifax:20240928T100000
DTEND;TZID=America/Halifax:20240928T130000
DTSTAMP:20260423T190035
CREATED:20240212T153558Z
LAST-MODIFIED:20240805T215506Z
UID:10000005-1727517600-1727528400@unmasktheinvisible.org
SUMMARY:This is Your Brain on Art Event
DESCRIPTION:Sign up today to unlock the potential of Art to heal and empower! This is a FREE event in which you will create your own 16″ x 20″ canvas masterpiece that is yours to keep! Engaging in art can enhance brain function\, raise serotonin levels and create new neural connections. \nLight refreshments will be served.  Space is limited. \nClick here to sign up today!
URL:https://unmasktheinvisible.org/events/this-is-your-brain-on-art-event-2/
LOCATION:2 Buck Rd.\, Hanover\, NH 03755\, 2 Buck Road\, Hanover\, NH\, 03755\, United States
CATEGORIES:Community Event,Local Event
ATTACH;FMTTYPE=image/jpeg:https://unmasktheinvisible.org/wp-content/uploads/IMG_4198-scaled.jpg
END:VEVENT
BEGIN:VEVENT
DTSTART;TZID=America/Halifax:20240925T110000
DTEND;TZID=America/Halifax:20240925T120000
DTSTAMP:20260423T190035
CREATED:20240610T212925Z
LAST-MODIFIED:20240912T131833Z
UID:10000011-1727262000-1727265600@unmasktheinvisible.org
SUMMARY:Brain Injury & Epilepsy Presentation with DHMC HOBSCOTCH
DESCRIPTION:Save the date on September 25\, 2024 for a planned joint presentation on “Brain Injury and Epilepsy” and advancing recovery of TBI survivors. Hosted by Unmask the Invisible and our partner\, Dartmouth Health HOBSCOTCH Institute for Cognitive Health and Well-Being. This presentation will be available online on Wednesday\, September 25th from 11am-12pm. Register here to receive the link to join this educational program.
URL:https://unmasktheinvisible.org/events/brain-injury-epilepsy-presentation/
LOCATION:VT
END:VEVENT
BEGIN:VEVENT
DTSTART;TZID=America/Halifax:20240921T110000
DTEND;TZID=America/Halifax:20240921T150000
DTSTAMP:20260423T190035
CREATED:20240212T153211Z
LAST-MODIFIED:20240702T205234Z
UID:10000003-1726916400-1726930800@unmasktheinvisible.org
SUMMARY:2024 LebFest
DESCRIPTION:Visit our booth to learn more about our organization\, try some fun activities\, enter for a chance to win prizes\, and purchase apparel.
URL:https://unmasktheinvisible.org/events/2024-lebfest/
LOCATION:VT
ATTACH;FMTTYPE=image/png:https://unmasktheinvisible.org/wp-content/uploads/Lebfest.png
END:VEVENT
BEGIN:VEVENT
DTSTART;VALUE=DATE:20240720
DTEND;VALUE=DATE:20240722
DTSTAMP:20260423T190035
CREATED:20240212T153818Z
LAST-MODIFIED:20240702T204907Z
UID:10000006-1721433600-1721606399@unmasktheinvisible.org
SUMMARY:1st UI Annual Softball Tournament
DESCRIPTION:We’re looking for local softball teams to help us raise money for the brain injured community! Co-ed teams welcome. Grab your team’s spot and compete for the trophy! \n Our first annual Softball Tournament is taking place July 20-21\, 2024 at Civic Memorial Field in West Lebanon\, NH. Tournament times are 8:00 AM to 5:00 PM. $350.00 donation per team helps us support and advocate for the brain injured community.   \nTeam Shirts\, Bat and 50/50 Raffle\, entertainment\, concessions\, apparel\, plus doing good while having fun!  \nREGISTER HERE
URL:https://unmasktheinvisible.org/events/1st-ui-annual-softball-tournament/
LOCATION:Civic Memorial Field\, Seminary Hill Road\, West Lebanon\, NH
ATTACH;FMTTYPE=image/png:https://unmasktheinvisible.org/wp-content/uploads/Softball-Flyer.png
END:VEVENT
BEGIN:VEVENT
DTSTART;TZID=America/Halifax:20240619T170000
DTEND;TZID=America/Halifax:20240619T200000
DTSTAMP:20260423T190035
CREATED:20240212T152813Z
LAST-MODIFIED:20240610T215217Z
UID:10000002-1718816400-1718827200@unmasktheinvisible.org
SUMMARY:2024 Hartford Block Party - Hartford\, VT
DESCRIPTION:Unmask The Invisible will be at the 2024 Hartford Block Party in Hartford\, Vermont on Wednesday\, June 19th from 5-8 PM!  \nCome find us at Lyman Point Park\, at the Unmask The Invisible booth\, learn more about what we are doing in the brain injured community\, meet members of our team and the Longmoore family! We will have copies of the book\, Unmask the Invisible: An Incredible story of Faith\, Family and Miracles by Amy L. Longmoore\, Sierra Longmoore\, Bridget May for sale\, too.
URL:https://unmasktheinvisible.org/events/2024-hartford-block-party/
LOCATION:Lyman Point Park\, 167 Maple Street\, White River Junction\, VT\, 05001
CATEGORIES:Community Event,Local Event
ATTACH;FMTTYPE=image/png:https://unmasktheinvisible.org/wp-content/uploads/hartford-block-party.png
END:VEVENT
BEGIN:VEVENT
DTSTART;TZID=America/Halifax:20240601T110000
DTEND;TZID=America/Halifax:20240601T130000
DTSTAMP:20260423T190035
CREATED:20240212T153430Z
LAST-MODIFIED:20240320T193950Z
UID:10000004-1717239600-1717246800@unmasktheinvisible.org
SUMMARY:This is Your Brain on Art Event
DESCRIPTION:Click here to register for This is Your Brain on Art Event!
URL:https://unmasktheinvisible.org/events/this-is-your-brain-on-art-event/
LOCATION:VT
ATTACH;FMTTYPE=image/png:https://unmasktheinvisible.org/wp-content/uploads/TYBOA.png
END:VEVENT
BEGIN:VEVENT
DTSTART;TZID=America/Halifax:20240504T100000
DTEND;TZID=America/Halifax:20240504T120000
DTSTAMP:20260423T190035
CREATED:20240320T193352Z
LAST-MODIFIED:20240419T153722Z
UID:10000009-1714816800-1714824000@unmasktheinvisible.org
SUMMARY:Unmask the Invisible Book Signing
DESCRIPTION:
URL:https://unmasktheinvisible.org/events/unmask-the-invisible-book-signing-2/
LOCATION:VT
ATTACH;FMTTYPE=image/jpeg:https://unmasktheinvisible.org/wp-content/uploads/Event-Page-Book-Signing-5.4.24.jpg
END:VEVENT
BEGIN:VEVENT
DTSTART;TZID=America/Halifax:20240420T130000
DTEND;TZID=America/Halifax:20240420T150000
DTSTAMP:20260423T190035
CREATED:20240304T181825Z
LAST-MODIFIED:20240419T153620Z
UID:10000008-1713618000-1713625200@unmasktheinvisible.org
SUMMARY:Unmask the Invisible Book Signing
DESCRIPTION:
URL:https://unmasktheinvisible.org/events/book-signing/
LOCATION:VT
ATTACH;FMTTYPE=image/jpeg:https://unmasktheinvisible.org/wp-content/uploads/Event-Page-Book-Signing-4.2024.jpg
END:VEVENT
BEGIN:VEVENT
DTSTART;TZID=America/Halifax:20240217T100000
DTEND;TZID=America/Halifax:20240217T120000
DTSTAMP:20260423T190035
CREATED:20240205T190227Z
LAST-MODIFIED:20240312T151549Z
UID:10000001-1708164000-1708171200@unmasktheinvisible.org
SUMMARY:Unmask the Invisible Book Signing
DESCRIPTION:
URL:https://unmasktheinvisible.org/events/unmask-the-invisible-book-signing/
LOCATION:Patten N. Haverhill Library\, 2885 Dartmouth College Hwy\, North Haverhill\, NH\, 03774\, United States
ATTACH;FMTTYPE=image/png:https://unmasktheinvisible.org/wp-content/uploads/www.unmasktheinvisible.org_.png
END:VEVENT
END:VCALENDAR